BEGIN:VCALENDAR
VERSION:2.0
PRODID:-//InvisionCommunity Events 4.7.20//EN
METHOD:PUBLISH
CALSCALE:GREGORIAN
REFRESH-INTERVAL:PT15M
X-PUBLISHED-TTL:PT15M
X-WR-CALNAME:All Calendars - Specialized Forum - die deutsche Plattform f
	ür Mountainbikes
NAME:All Calendars - Specialized Forum - die deutsche Plattform f
	ür Mountainbikes
BEGIN:VTIMEZONE
TZID:Europe/London
TZURL:http://tzurl.org/zoneinfo/Europe/London
X-LIC-LOCATION:Europe/London
BEGIN:DAYLIGHT
TZOFFSETFROM:+0000
TZOFFSETTO:+0100
TZNAME:BST
DTSTART:20230326T020000Z
RRULE:FREQ=YEARLY;BYMONTH=3;BYDAY=-1SU
END:DAYLIGHT
BEGIN:STANDARD
TZOFFSETFROM:+0100
TZOFFSETTO:+0000
TZNAME:GMT
DTSTART:20231029T020000Z
RRULE:FREQ=YEARLY;BYMONTH=10;BYDAY=-1SU
END:STANDARD
END:VTIMEZONE
BEGIN:VEVENT
SUMMARY:Saisoneröffnung Bikepark Saalbach
DTSTAMP:20230314T141204Z
SEQUENCE:0
UID:1-1-43fb312f8c5943b4d31258e66f4b3b3a@specializedforum.de
ORGANIZER;CN="Ben":reg@specializedforum.de
DESCRIPTION:\n	\n		\n			\n				Betriebszeiten UND Einzelfahrten\n			\n\n	
			\n				\n					H1+H2 Kohlmaisbahn: 26.05.–15.10.2023\n				\n				\n					
	D1 Reiterkogelbahn: 26.05.–15.10.2023\n				\n				\n					B1+B2 12er KOGE
	L: 02.06.–01.10.2023\n				\n				\n					A3+A4 Westgipfelbahn: 02.06.–
	08.10.2023\n				\n				\n					A1+A2 Schattberg X-press: 16.06.–24.09.2023
	\n				\n				\n					A6 Schattberg Sprinter: 16.06.–24.09.2023\n				\n			
	\n		\n	\n\n
DTSTART;VALUE=DATE:20230526
END:VEVENT
END:VCALENDAR
